BEGIN:VCALENDAR
VERSION:2.0
PRODID:-//Boston BMW CCA Club - ECPv6.15.20//NONSGML v1.0//EN
CALSCALE:GREGORIAN
METHOD:PUBLISH
X-WR-CALNAME:Boston BMW CCA Club
X-ORIGINAL-URL:https://boston-bmwcca.org
X-WR-CALDESC:Events for Boston BMW CCA Club
REFRESH-INTERVAL;VALUE=DURATION:PT1H
X-Robots-Tag:noindex
X-PUBLISHED-TTL:PT1H
BEGIN:VTIMEZONE
TZID:America/New_York
BEGIN:DAYLIGHT
TZOFFSETFROM:-0500
TZOFFSETTO:-0400
TZNAME:EDT
DTSTART:20240310T070000
END:DAYLIGHT
BEGIN:STANDARD
TZOFFSETFROM:-0400
TZOFFSETTO:-0500
TZNAME:EST
DTSTART:20241103T060000
END:STANDARD
BEGIN:DAYLIGHT
TZOFFSETFROM:-0500
TZOFFSETTO:-0400
TZNAME:EDT
DTSTART:20250309T070000
END:DAYLIGHT
BEGIN:STANDARD
TZOFFSETFROM:-0400
TZOFFSETTO:-0500
TZNAME:EST
DTSTART:20251102T060000
END:STANDARD
BEGIN:DAYLIGHT
TZOFFSETFROM:-0500
TZOFFSETTO:-0400
TZNAME:EDT
DTSTART:20260308T070000
END:DAYLIGHT
BEGIN:STANDARD
TZOFFSETFROM:-0400
TZOFFSETTO:-0500
TZNAME:EST
DTSTART:20261101T060000
END:STANDARD
END:VTIMEZONE
BEGIN:VEVENT
DTSTART;TZID=America/New_York:20250920T080000
DTEND;TZID=America/New_York:20250920T170000
DTSTAMP:20260422T002256
CREATED:20250213T134703Z
LAST-MODIFIED:20250213T134703Z
UID:10000540-1758355200-1758387600@boston-bmwcca.org
SUMMARY:Autocross - Points Event 7
DESCRIPTION:Tentative Date
URL:https://boston-bmwcca.org/event/autocross-points-event-7-3/
LOCATION:Moore Airfield Devens\, MA\, 90 Fitchburg Road\, Ayer\, MA\, 01432\, United States
CATEGORIES:Autocross
ORGANIZER;CN="Justin Chen":MAILTO:bmwcca.boston@gmail.com
END:VEVENT
END:VCALENDAR