BEGIN:VCALENDAR
VERSION:2.0
PRODID:-//Boston BMW CCA Club - ECPv6.15.20//NONSGML v1.0//EN
CALSCALE:GREGORIAN
METHOD:PUBLISH
X-ORIGINAL-URL:https://boston-bmwcca.org
X-WR-CALDESC:Events for Boston BMW CCA Club
REFRESH-INTERVAL;VALUE=DURATION:PT1H
X-Robots-Tag:noindex
X-PUBLISHED-TTL:PT1H
BEGIN:VTIMEZONE
TZID:America/New_York
BEGIN:DAYLIGHT
TZOFFSETFROM:-0500
TZOFFSETTO:-0400
TZNAME:EDT
DTSTART:20220313T070000
END:DAYLIGHT
BEGIN:STANDARD
TZOFFSETFROM:-0400
TZOFFSETTO:-0500
TZNAME:EST
DTSTART:20221106T060000
END:STANDARD
BEGIN:DAYLIGHT
TZOFFSETFROM:-0500
TZOFFSETTO:-0400
TZNAME:EDT
DTSTART:20230312T070000
END:DAYLIGHT
BEGIN:STANDARD
TZOFFSETFROM:-0400
TZOFFSETTO:-0500
TZNAME:EST
DTSTART:20231105T060000
END:STANDARD
BEGIN:DAYLIGHT
TZOFFSETFROM:-0500
TZOFFSETTO:-0400
TZNAME:EDT
DTSTART:20240310T070000
END:DAYLIGHT
BEGIN:STANDARD
TZOFFSETFROM:-0400
TZOFFSETTO:-0500
TZNAME:EST
DTSTART:20241103T060000
END:STANDARD
END:VTIMEZONE
BEGIN:VEVENT
DTSTART;TZID=America/New_York:20230721T170000
DTEND;TZID=America/New_York:20230721T200000
DTSTAMP:20260423T175355
CREATED:20230407T203009Z
LAST-MODIFIED:20230408T210114Z
UID:10000478-1689958800-1689969600@boston-bmwcca.org
SUMMARY:Fun Rally and Burger Burn
DESCRIPTION:Our friends at the Nam Knights Motorcycle Club in Merrimack Valley\, MA have invited us to join them at their popular Burger Burn. \nWe’ll kick-off this gathering with a fun rally to get to the event. We will meet in Londonderry\, NH and take some fun backroads to the Burger Burn in Dracut\, MA. Our drive will last approximately 1 hour. Please see your registration confirmation for addresses. \nThe Burger Burn is a casual event with food\, fun and great company. At the Burger Burn\, the Nam Knights are providing us with an exclusive car corral for BMW CCA attendees. \nThere is no fee to participate in this event. Nam Knights will be collecting donations to support their work with area Veterans’ organizations. We strongly encourage all of our attendees to donate a minimum of $10 per person. Please bring cash for the donation collection. \nSpots are limited\, sign-up today!
URL:https://boston-bmwcca.org/event/fun-rally-and-burger-burn-3/
LOCATION:Dracut\, MA\, Dracut\, MA\, 01826\, United States
END:VEVENT
END:VCALENDAR