BEGIN:VCALENDAR
VERSION:2.0
PRODID:-//Boston BMW CCA Club - ECPv6.15.20//NONSGML v1.0//EN
CALSCALE:GREGORIAN
METHOD:PUBLISH
X-ORIGINAL-URL:https://boston-bmwcca.org
X-WR-CALDESC:Events for Boston BMW CCA Club
REFRESH-INTERVAL;VALUE=DURATION:PT1H
X-Robots-Tag:noindex
X-PUBLISHED-TTL:PT1H
BEGIN:VTIMEZONE
TZID:America/New_York
BEGIN:DAYLIGHT
TZOFFSETFROM:-0500
TZOFFSETTO:-0400
TZNAME:EDT
DTSTART:20240310T070000
END:DAYLIGHT
BEGIN:STANDARD
TZOFFSETFROM:-0400
TZOFFSETTO:-0500
TZNAME:EST
DTSTART:20241103T060000
END:STANDARD
BEGIN:DAYLIGHT
TZOFFSETFROM:-0500
TZOFFSETTO:-0400
TZNAME:EDT
DTSTART:20250309T070000
END:DAYLIGHT
BEGIN:STANDARD
TZOFFSETFROM:-0400
TZOFFSETTO:-0500
TZNAME:EST
DTSTART:20251102T060000
END:STANDARD
BEGIN:DAYLIGHT
TZOFFSETFROM:-0500
TZOFFSETTO:-0400
TZNAME:EDT
DTSTART:20260308T070000
END:DAYLIGHT
BEGIN:STANDARD
TZOFFSETFROM:-0400
TZOFFSETTO:-0500
TZNAME:EST
DTSTART:20261101T060000
END:STANDARD
END:VTIMEZONE
BEGIN:VEVENT
DTSTART;TZID=America/New_York:20250928T080000
DTEND;TZID=America/New_York:20250928T100000
DTSTAMP:20260422T065137
CREATED:20250609T165847Z
LAST-MODIFIED:20250609T165847Z
UID:10000555-1759046400-1759053600@boston-bmwcca.org
SUMMARY:Cars and Coffee Fort Adams Newport RI
DESCRIPTION:  \nCars & Coffee at Fort Adams State Park\, Newport RI (Audrain event) – Boston Chapter BMW CCA \nBring out your Bimmer to join us on Sunday September 28nd\, 2025 at Fort Adams State Park\, Newport RI.\nWe will meet between 8:00 AM and 10:00 AM. \nhttps://maps.app.goo.gl/9hQ73P2ussrrU2Yy9 \nIf you need to cancel please do so before the Close Date. \nTHIS EVENT STARTS AT 8AM until 10AM RAIN OR SHINE \nSign up here -> https://www.motorsportreg.com/events/cars-coffee-fort-adams-newport-ri-state-park-bmw-cca-boston-social-tech-696495 \n 
URL:https://boston-bmwcca.org/event/cars-and-coffee-fort-adams-newport-ri/
LOCATION:Fort Adams State Park\, 80 Fort Adams Dr\, Newport\, RI\, 02840\, United States
CATEGORIES:Cars & Coffee,Social
END:VEVENT
END:VCALENDAR