BEGIN:VCALENDAR
VERSION:2.0
PRODID:-//Boston BMW CCA Club - ECPv6.15.20//NONSGML v1.0//EN
CALSCALE:GREGORIAN
METHOD:PUBLISH
X-WR-CALNAME:Boston BMW CCA Club
X-ORIGINAL-URL:https://boston-bmwcca.org
X-WR-CALDESC:Events for Boston BMW CCA Club
REFRESH-INTERVAL;VALUE=DURATION:PT1H
X-Robots-Tag:noindex
X-PUBLISHED-TTL:PT1H
BEGIN:VTIMEZONE
TZID:America/New_York
BEGIN:DAYLIGHT
TZOFFSETFROM:-0500
TZOFFSETTO:-0400
TZNAME:EDT
DTSTART:20230312T070000
END:DAYLIGHT
BEGIN:STANDARD
TZOFFSETFROM:-0400
TZOFFSETTO:-0500
TZNAME:EST
DTSTART:20231105T060000
END:STANDARD
BEGIN:DAYLIGHT
TZOFFSETFROM:-0500
TZOFFSETTO:-0400
TZNAME:EDT
DTSTART:20240310T070000
END:DAYLIGHT
BEGIN:STANDARD
TZOFFSETFROM:-0400
TZOFFSETTO:-0500
TZNAME:EST
DTSTART:20241103T060000
END:STANDARD
BEGIN:DAYLIGHT
TZOFFSETFROM:-0500
TZOFFSETTO:-0400
TZNAME:EDT
DTSTART:20250309T070000
END:DAYLIGHT
BEGIN:STANDARD
TZOFFSETFROM:-0400
TZOFFSETTO:-0500
TZNAME:EST
DTSTART:20251102T060000
END:STANDARD
END:VTIMEZONE
BEGIN:VEVENT
DTSTART;VALUE=DATE:20241012
DTEND;VALUE=DATE:20241013
DTSTAMP:20260422T205844
CREATED:20240524T024540Z
LAST-MODIFIED:20240524T024540Z
UID:10000443-1728691200-1728777599@boston-bmwcca.org
SUMMARY:Vintage@Saratoga 2024 BMW Lawn Show
DESCRIPTION:  \nThe Boston Chapter is excited to share news of the upcoming Vintage@Saratoga event at the Saratoga Automobile Museum in Saratoga Springs\, New York.  It will be held on October 12th and the Boston Chapter hopes to include a concours event this year. Please check out the Facebook page at https://www.facebook.com/events/ Details to follow. \n 
URL:https://boston-bmwcca.org/event/vintagesaratoga-2024-bmw-lawn-show/
LOCATION:Saratoga Automobile Museum\, 110 Avenue of the Pines\, Saratoga Springs\, 12866\, United States
CATEGORIES:Concours Car Show
END:VEVENT
END:VCALENDAR